BEGIN:VCALENDAR
VERSION:2.0
PRODID:-//David’s Dream &amp; Believe Cancer Foundation - ECPv6.15.20//NONSGML v1.0//EN
CALSCALE:GREGORIAN
METHOD:PUBLISH
X-WR-CALNAME:David’s Dream &amp; Believe Cancer Foundation
X-ORIGINAL-URL:https://davidsdreamandbelieve.org
X-WR-CALDESC:Events for David’s Dream &amp; Believe Cancer Foundation
REFRESH-INTERVAL;VALUE=DURATION:PT1H
X-Robots-Tag:noindex
X-PUBLISHED-TTL:PT1H
BEGIN:VTIMEZONE
TZID:America/New_York
BEGIN:DAYLIGHT
TZOFFSETFROM:-0500
TZOFFSETTO:-0400
TZNAME:EDT
DTSTART:20250309T070000
END:DAYLIGHT
BEGIN:STANDARD
TZOFFSETFROM:-0400
TZOFFSETTO:-0500
TZNAME:EST
DTSTART:20251102T060000
END:STANDARD
BEGIN:DAYLIGHT
TZOFFSETFROM:-0500
TZOFFSETTO:-0400
TZNAME:EDT
DTSTART:20260308T070000
END:DAYLIGHT
BEGIN:STANDARD
TZOFFSETFROM:-0400
TZOFFSETTO:-0500
TZNAME:EST
DTSTART:20261101T060000
END:STANDARD
BEGIN:DAYLIGHT
TZOFFSETFROM:-0500
TZOFFSETTO:-0400
TZNAME:EDT
DTSTART:20270314T070000
END:DAYLIGHT
BEGIN:STANDARD
TZOFFSETFROM:-0400
TZOFFSETTO:-0500
TZNAME:EST
DTSTART:20271107T060000
END:STANDARD
END:VTIMEZONE
BEGIN:VEVENT
DTSTART;TZID=America/New_York:20260425T190000
DTEND;TZID=America/New_York:20260425T230000
DTSTAMP:20260421T042556
CREATED:20260213T194412Z
LAST-MODIFIED:20260312T182520Z
UID:14117-1777143600-1777158000@davidsdreamandbelieve.org
SUMMARY:Spring Soiree - Hollywood Celebration
DESCRIPTION:Lights\, camera\, HOPE! \nWe’re rolling out the red carpet for a night of celebration\, community\, and impact\, and we’re thrilled to honor the Reynolds Family as our 2026 Beacon of Hope Award recipients. \nJoin us for our Spring Soiree: A Hollywood Celebration\n📅 Saturday\, April 25\, 2026\n📍 The Sea Shell Resort & Beach Club\, Beach Haven\, NJ\n🎬 Presented by D. Finelli Construction\nTo benefit David’s Dream & Believe Cancer Foundation \nTicket includes: entry\, 3-hour top-shelf open bar\, heavy hors d’oeuvres\, auction\, and Live Music. \nPlease join us by purchasing sponsorship and tickets through our website by making a donation and write Soiree in the notes section. \nDOWNLOAD SPONSORSHIP FORM \n 
URL:https://davidsdreamandbelieve.org/event/spring-soiree-hollywood-celebration/
LOCATION:Sea Shell Resort and Beach Club\, 10 S Atlantic Ave\, Beach Haven\, NJ\, 08008\, United States
ATTACH;FMTTYPE=image/png:https://davidsdreamandbelieve.org/wp-content/uploads/2026/02/Save-the-Date_Title-Sponsor.png
ORGANIZER;CN="David's Dream & Believe Cancer Foundation":MAILTO:david@ddbcf.org
END:VEVENT
END:VCALENDAR